BEGIN:VCALENDAR
VERSION:2.0
PRODID:-//Korindo Energy - ECPv6.15.20//NONSGML v1.0//EN
CALSCALE:GREGORIAN
METHOD:PUBLISH
X-ORIGINAL-URL:https://dev.korindo-energy.com
X-WR-CALDESC:Events for Korindo Energy
REFRESH-INTERVAL;VALUE=DURATION:PT1H
X-Robots-Tag:noindex
X-PUBLISHED-TTL:PT1H
BEGIN:VTIMEZONE
TZID:UTC
BEGIN:STANDARD
TZOFFSETFROM:+0000
TZOFFSETTO:+0000
TZNAME:UTC
DTSTART:20230101T000000
END:STANDARD
END:VTIMEZONE
BEGIN:VEVENT
DTSTART;VALUE=DATE:20240125
DTEND;VALUE=DATE:20240126
DTSTAMP:20260424T193315
CREATED:20240117T080343Z
LAST-MODIFIED:20260117T080814Z
UID:23326-1706140800-1706227199@dev.korindo-energy.com
SUMMARY:Korindo Energy Scania Seminar Singapore 2024
DESCRIPTION:Reflecting on an insightful seminar last Thursday\, January 25th\, where we delved into the future of a sustainable journey with a focus on Scania’s Biodiesel and Electrified Solutions.\n\n\nIt was an honor to have Torben Dabrowski\, Abhijit Menon\, Oscar Wyckman from Scania Sweden join us\, sharing their expertise. \nThe seminar wouldn’t have been complete without the valuable contributions from our other esteemed speakers. Dr. Ryal Wun\, Mars Li\, and Alvin Lee shared profound insights into the latest decarbonization journey in South East Asia. Last but not least all the attendees from government agencies\, shipyard\, and shipbuilding companies\, many more. \nTogether\, we can drive positive change in the realm of marine and beyond.
URL:https://dev.korindo-energy.com/event/korindo-energy-scania-seminar-singapore-2024/
CATEGORIES:Seminar
ATTACH;FMTTYPE=image/webp:https://dev.korindo-energy.com/wp-content/uploads/2026/01/Sosmed-copy.webp
END:VEVENT
END:VCALENDAR